Workbook

Sheet PG-1-Hmk, PC, Respite
A1: Region 9 AAA
A2: OAA SUMMARY BUDGET
A3: FY 2024
A5: SUBCONTRACTOR NAME: | E5: BUDGET PERIOD:
E6: 10/1/2023-9/30/2024
B9: Title IIIB | C9: Title IIIB | D9: Title IIIB | E9: SAC | F9: SIHS | G9: SIHS | H9: SIHS | I9: SANS | J9: EAP | K9: MERIT | L9: State CG | M9: Escheat
A10: LINE ITEM | B10: Homemaking | C10: Pers Care | D10: Respite | E10: Homemaking | F10: Respite | G10: Homemaking | H10: Pers Care | I10: HMK | L10: Support | M10: Respite | N10: TOTALS
A11: Salaries/Wages | N11: =SUM(B11:M11) -> 0
A12: Fringe Benefits | N12: =SUM(B12:M12) -> 0
A13: Staff Travel | N13: =SUM(B13:M13) -> 0
A14: Supplies | N14: =SUM(B14:M14) -> 0
A15: Equipment (>$5000) | N15: =SUM(B15:M15) -> 0
A16: Occupancy | N16: =SUM(B16:M16) -> 0
A17: Communications | N17: =SUM(B17:M17) -> 0
A18: Service Contracts | N18: =SUM(B18:M18) -> 0
A19: Other | N19: =SUM(B19:M19) -> 0
A20: TOTAL | B20: =SUM(B11:B19) -> 0 | C20: =SUM(C11:C19) -> 0 | D20: =SUM(D11:D19) -> 0 | E20: =SUM(E11:E19) -> 0 | F20: =SUM(F11:F19) -> 0 | G20: =SUM(G11:G19) -> 0 | H20: =SUM(H11:H19) -> 0 | I20: =SUM(I11:I19) -> 0 | ... N20: =SUM(N11:N19) -> 0
A21: SOURCE OF FUNDS:
A22: Federal | N22: =SUM(B22:M22) -> 0
A23: State | N23: =SUM(B23:M23) -> 0
A24: Program Income | N24: =SUM(B24:M24) -> 0
A25: Cash Match | N25: =SUM(B25:M25) -> 0
A26: TOTAL | B26: =SUM(B22:B25) -> 0 | C26: =SUM(C22:C25) -> 0 | D26: =SUM(D22:D25) -> 0 | E26: =SUM(E22:E25) -> 0 | F26: =SUM(F22:F25) -> 0 | G26: =SUM(G22:G25) -> 0 | H26: =SUM(H22:H25) -> 0 | I26: =SUM(I22:I25) -> 0 | J26: =SUM(J22:J25) -> 0 | K26: =SUM(K17:K25) -> 0 | L26: =SUM(L17:L25) -> 0 | M26: =SUM(M22:M25) -> 0 | N26: =SUM(N22:N25) -> 0
A29: In-Kind Match | N29: =SUM(B29:M29) -> 0
A31: *Source of Funds and Match amounts should be taken from the Match allocation sheets.

Sheet PG-2-Nutrition
A1: Region 9 AAA
A2: Summary Budget - FY 2024
A4: SUBCONTRACTOR NAME: | B4: Budget Period: | C4: REVISION #:
B5: 10/1/2023-9/30/2024
A7: LINE ITEM | B7: Congregate Meals | C7: Home Delivered Meals | D7: TOTALS
A8: Salaries/Wages (Personnel):
A9: Administration | D9: =SUM(B9:C9) -> 0
A10: Meal Preparation | D10: =SUM(B10:C10) -> 0
A11: Meal Delivery | D11: =SUM(B11:C11) -> 0
A12: Fringe:
A13: Administration | D13: =SUM(B13:C13) -> 0
A14: Meal Preparation | D14: =SUM(B14:C14) -> 0
A15: Meal Delivery | D15: =SUM(B15:C15) -> 0
A16: Travel: | D16: =SUM(B16:C16) -> 0
A17: Administration | D17: =SUM(B17:C17) -> 0
A18: Meal Delivery | D18: =SUM(B18:C18) -> 0
A19: Raw Food | D19: =SUM(B19:C19) -> 0
A20: Equipment - Maintenance/Repair | D20: =SUM(B20:C20) -> 0
A21: Supplies | D21: =SUM(B21:C21) -> 0
A22: Utilities/Refuse | D22: =SUM(B22:C22) -> 0
A23: Other:
A24: Communications | D24: =SUM(B24:C24) -> 0
A25: Cleaning | D25: =SUM(B25:C25) -> 0
A26: Insurance | D26: =SUM(B26:C26) -> 0
A27: *Delivery vehicle expense | D27: =SUM(B27:C27) -> 0
A28: HPS Dues | D28: =SUM(B28:C28) -> 0
A29: Snow Removal | D29: =SUM(B29:C29) -> 0
A30: Space Cost/Rent | D30: =SUM(B30:C30) -> 0
A31: Audit | D31: =SUM(B31:C31) -> 0
A32: Misc: (explain) | D32: =SUM(B32:C32) -> 0
A33: In-Kind Expense:
A34: Volunteer time | D34: =SUM(B34:C34) -> 0
A35: Other (explain): | D35: =SUM(B35:C35) -> 0
A36: TOTAL | B36: =SUM(B8:B33) -> 0 | C36: =SUM(C8:C33) -> 0 | D36: =SUM(D8:D33) -> 0
A37: SOURCE OF FUNDS:
A38: Federal | D38: =SUM(B38:C38) -> 0
A39: State | D39: =SUM(B39:C39) -> 0
A40: N.S.I.P. | D40: =SUM(B40:C40) -> 0
A41: Program Income-Eligible | D41: =SUM(B41:C41) -> 0
A42: Program Income-Non-Eligible | D42: =SUM(B42:C42) -> 0
...

Sheet PG-3
A1: SALARIES
A2: AND WAGES
A3: WAGES | B3: Title IIIB | C3: Title IIIB | D3: Title IIIB | E3: SAC | F3: SIHS | G3: SIHS | H3: SIHS | I3: SANS | J3: EAP | K3: Merit | L3: State CG | M3: Escheat | N3: Congregate | O3: Home Delv
A4: (List by Job Title) | B4: Homemaking | C4: Pers Care | D4: Respite | E4: Homemaking | F4: Respite | G4: Homemaking | H4: Pers Care | I4: HMK | L4: Support | M4: Respite | N4: Meals | O4: Meals | P4: TOTALS
P5: =SUM(B5:M5) -> 0
P6: =SUM(B6:M6) -> 0
P7: =SUM(B7:M7) -> 0
P8: =SUM(B8:M8) -> 0
P9: =SUM(B9:M9) -> 0
P10: =SUM(B10:M10) -> 0
P11: =SUM(B11:M11) -> 0
P12: =SUM(B12:M12) -> 0
P13: =SUM(B13:M13) -> 0
P14: =SUM(B14:M14) -> 0
P15: =SUM(B15:M15) -> 0
P16: =SUM(B16:M16) -> 0
P17: =SUM(B17:M17) -> 0
A20: Salaries and Wages must include # of hours, amount of pay/hr. and # of people in that position - (e.g. 1080 hrs. * $7.11/hr. * 3 people).

Sheet PG-4
A3: SALARIES | B3: Title IIIB | C3: Title IIIB | D3: Title IIIB | E3: SAC | F3: SIHS | G3: SIHS | H3: SIHS | I3: SANS | J3: EAP | K3: Merit | L3: State CG | M3: Escheat | N3: Cong | O3: Home Del
A4: AND WAGES | B4: Homemaking | C4: Pers Care | D4: Respite | E4: Homemaking | F4: Respite | G4: Homemaking | H4: Pers Care | I4: HMK | L4: Support | M4: Respite | N4: Meals | O4: Meals | P4: TOTALS
P5: =SUM(B5:M5) -> 0
P6: =SUM(B6:M6) -> 0
P7: =SUM(B7:M7) -> 0
P8: =SUM(B8:M8) -> 0
A9: TOTAL SALARIES AND WAGES | B9: =SUM('PG-3'!B5:B17)+B5+B6+B7+B8 -> 0 | C9: =SUM('PG-3'!C5:C17)+C5+C6+C7+C8 -> 0 | D9: =SUM('PG-3'!D5:D17)+D5+D6+D7+D8 -> 0 | E9: =SUM('PG-3'!E5:E17)+E5+E6+E7+E8 -> 0 | F9: =SUM('PG-3'!F5:F17)+F5+F6+F7+F8 -> 0 | G9: =SUM('PG-3'!G5:G17)+G5+G6+G7+G8 -> 0 | H9: =SUM('PG-3'!H5:H17)+H5+H6+H7+H8 -> 0 | I9: =SUM('PG-3'!I5:I17)+I5+I6+I7+I8 -> 0 | M9: =SUM('PG-3'!M5:M17)+M5+M6+M7+M8 -> 0 | N9: =SUM('PG-3'!N5:N17)+N5+N6+N7+N8 -> 0 | O9: =SUM('PG-3'!O5:O17)+O5+O6+O7+O8 -> 0 | P9: =SUM('PG-3'!P5:P17)+P5+P6+P7+P8 -> 0
A11: FRINGE BENEFITS | P11: =SUM(B11:M11) -> 0
A13: TRAVEL | P13: =SUM(B13:M13) -> 0
A15: SUPPLIES | P15: =SUM(B15:M15) -> 0
A17: EQUIP | P17: =SUM(B17:M17) -> 0
A19: RAW FOOD | P19: =SUM(B19:M19) -> 0
B20: ELIGIBLE MEALS: | C20: C1: | D20: ____________
A21: (Previous FY Final #'s)
C22: C2: | D22: ____________

Sheet PG5
B4: Title IIIB | C4: Title IIIB | D4: Title IIIB | E4: SAC | F4: SIHS | G4: SIHS | H4: SIHS | I4: SANS | J4: EAP | K4: Merit | L4: State CG | M4: Escheat | N4: Cong | O4: Home Del
A5: OCCUPANCY | B5: Homemaking | C5: Pers Care | D5: Respite | E5: Homemaking | F5: Respite | G5: Homemaking | H5: Pers Care | I5: HMK | L5: Support | M5: Respite | N5: Meals | O5: Meals | P5: TOTALS
A6: OFFICE SPACE | P6: =SUM(B6:M6) -> 0
P7: =SUM(B7:M7) -> 0
P8: =SUM(B8:M8) -> 0
P9: =SUM(B9:M9) -> 0
A10: UTILITIES | P10: =SUM(B10:M10) -> 0
P11: =SUM(B11:M11) -> 0
P12: =SUM(B12:M12) -> 0
P13: =SUM(B13:M13) -> 0
A14: TOTAL | B14: =SUM(B6:B13) -> 0 | C14: =SUM(C6:C13) -> 0 | D14: =SUM(D6:D13) -> 0 | E14: =SUM(E6:E13) -> 0 | F14: =SUM(F6:F13) -> 0 | G14: =SUM(G6:G13) -> 0 | H14: =SUM(H6:H13) -> 0 | I14: =SUM(I6:I13) -> 0 | ... P14: =SUM(P6:P13) -> 0
A16: COMMUNICATION
A17: Postage | P17: =SUM(B17:M17) -> 0
A18: Telephone | P18: =SUM(B18:M18) -> 0
A19: Copying | P19: =SUM(B19:M19) -> 0
A20: TOTAL | B20: =SUM(B17:B19) -> 0 | C20: =SUM(C17:C19) -> 0 | D20: =SUM(D17:D19) -> 0 | E20: =SUM(E17:E19) -> 0 | F20: =SUM(F17:F19) -> 0 | G20: =SUM(G17:G19) -> 0 | H20: =SUM(H17:H19) -> 0 | I20: =SUM(I17:I19) -> 0 | J20: =SUM(J12:J19) -> 0 | K20: =SUM(K12:K19) -> 0 | L20: =SUM(L12:L19) -> 0 | M20: =SUM(M17:M19) -> 0 | N20: =SUM(N12:N19) -> 0 | O20: =SUM(O12:O19) -> 0 | P20: =SUM(P17:P19) -> 0
A22: SERVICE CONTRACTS
P23: =SUM(B23:M23) -> 0
P24: =SUM(B24:M24) -> 0
P25: =SUM(B25:M25) -> 0
A26: TOTAL | B26: =SUM(B23:B25) -> 0 | C26: =SUM(C23:C25) -> 0 | D26: =SUM(D23:D25) -> 0 | E26: =SUM(E23:E25) -> 0 | F26: =SUM(F23:F25) -> 0 | G26: =SUM(G23:G25) -> 0 | H26: =SUM(H23:H25) -> 0 | I26: =SUM(I23:I25) -> 0 | ... P26: =SUM(P23:P25) -> 0

Sheet PG6
A4: OTHER | B4: Title IIIB | C4: Title IIIB | D4: Title IIIB | E4: SAC | F4: SIHS | G4: SIHS | H4: SIHS | I4: SANS | J4: EAP | K4: Merit | L4: State CG | M4: Escheat | N4: Congregate | O4: Delivered
A5: COSTS | B5: Homemaking | C5: Pers Care | D5: Respite | E5: Homemaking | F5: Respite | G5: Homemaking | H5: Pers Care | I5: HMK | L5: Support | M5: Respite | N5: Meals | O5: Meals | P5: TOTALS
P6: =SUM(B6:O6) -> 0
P7: =SUM(B7:O7) -> 0
P8: =SUM(B8:O8) -> 0
P9: =SUM(B9:O9) -> 0
P10: =SUM(B10:O10) -> 0
P11: =SUM(B11:O11) -> 0
P12: =SUM(B12:O12) -> 0
P13: =SUM(B13:O13) -> 0
P14: =SUM(B14:O14) -> 0
P15: =SUM(B15:O15) -> 0
P16: =SUM(B16:O16) -> 0
P17: =SUM(B17:O17) -> 0
A18: TOTAL | B18: =SUM(B6:B17) -> 0 | C18: =SUM(C6:C17) -> 0 | D18: =SUM(D6:D17) -> 0 | E18: =SUM(E6:E17) -> 0 | F18: =SUM(F6:F17) -> 0 | G18: =SUM(G6:G17) -> 0 | H18: =SUM(H6:H17) -> 0 | I18: =SUM(I6:I17) -> 0 | ... P18: =SUM(P6:P17) -> 0
A21: Describe what the other costs are above.

Sheet PG7
A4: OTHER | B4: Title IIIB | C4: Title IIIB | D4: Title IIIB | E4: SAC | F4: SIHS | G4: SIHS | H4: SIHS | I4: SANS | J4: EAP | K4: Merit | L4: State CG | M4: Escheat | N4: Congregate | O4: Home-Dlv
A5: COSTS | B5: Homemaking | C5: Pers Care | D5: Respite | E5: Homemaking | F5: Respite | G5: Homemaking | H5: Pers Care | I5: HMK | L5: Support | M5: Respite | N5: Meals | O5: Meals | P5: TOTALS
A6: Federal Funds | B6: ='PG-1-Hmk, PC, Respite'!B22 -> 0 | C6: ='PG-1-Hmk, PC, Respite'!C22 -> 0 | D6: ='PG-1-Hmk, PC, Respite'!D22 -> 0 | E6: ='PG-1-Hmk, PC, Respite'!E22 -> 0 | F6: ='PG-1-Hmk, PC, Respite'!F22 -> 0 | G6: ='PG-1-Hmk, PC, Respite'!G22 -> 0 | H6: ='PG-1-Hmk, PC, Respite'!H22 -> 0 | I6: ='PG-1-Hmk, PC, Respite'!I22 -> 0 | ... M6: ='PG-1-Hmk, PC, Respite'!M22 -> 0 | N6: ='PG-2-Nutrition'!B38 -> 0 | O6: ='PG-2-Nutrition'!C38 -> 0 | P6: =SUM(B6:O6) -> 0
A7: State Funds | B7: ='PG-1-Hmk, PC, Respite'!B23 -> 0 | C7: ='PG-1-Hmk, PC, Respite'!C23 -> 0 | D7: ='PG-1-Hmk, PC, Respite'!D23 -> 0 | E7: ='PG-1-Hmk, PC, Respite'!E23 -> 0 | F7: ='PG-1-Hmk, PC, Respite'!F23 -> 0 | G7: ='PG-1-Hmk, PC, Respite'!G23 -> 0 | H7: ='PG-1-Hmk, PC, Respite'!H23 -> 0 | I7: ='PG-1-Hmk, PC, Respite'!I23 -> 0 | ... M7: ='PG-1-Hmk, PC, Respite'!M23 -> 0 | N7: ='PG-2-Nutrition'!B39 -> 0 | O7: ='PG-2-Nutrition'!C39 -> 0 | P7: =SUM(B7:O7) -> 0
A8: N.S.I.P. | N8: ='PG-2-Nutrition'!B40 -> 0 | O8: ='PG-2-Nutrition'!C40 -> 0 | P8: =SUM(B8:O8) -> 0
A9: Program Income | B9: ='PG-1-Hmk, PC, Respite'!B24 -> 0 | C9: ='PG-1-Hmk, PC, Respite'!C24 -> 0 | D9: ='PG-1-Hmk, PC, Respite'!D24 -> 0 | E9: ='PG-1-Hmk, PC, Respite'!E24 -> 0 | F9: ='PG-1-Hmk, PC, Respite'!F24 -> 0 | G9: ='PG-1-Hmk, PC, Respite'!G24 -> 0 | H9: ='PG-1-Hmk, PC, Respite'!H24 -> 0 | I9: ='PG-1-Hmk, PC, Respite'!I24 -> 0 | ... M9: ='PG-1-Hmk, PC, Respite'!M24 -> 0 | N9: ='PG-2-Nutrition'!B41+'PG-2-Nutrition'!B42 -> 0 | O9: ='PG-2-Nutrition'!C41 -> 0 | P9: =SUM(B9:O9) -> 0
A10: Cash Match | B10: ='PG-1-Hmk, PC, Respite'!B25 -> 0 | C10: ='PG-1-Hmk, PC, Respite'!C25 -> 0 | D10: ='PG-1-Hmk, PC, Respite'!D25 -> 0 | E10: ='PG-1-Hmk, PC, Respite'!E25 -> 0 | F10: ='PG-1-Hmk, PC, Respite'!F25 -> 0 | G10: ='PG-1-Hmk, PC, Respite'!G25 -> 0 | H10: ='PG-1-Hmk, PC, Respite'!H25 -> 0 | I10: ='PG-1-Hmk, PC, Respite'!I25 -> 0 | ... M10: ='PG-1-Hmk, PC, Respite'!M25 -> 0 | N10: ='PG-2-Nutrition'!B43 -> 0 | O10: ='PG-2-Nutrition'!C42 -> 0 | P10: =SUM(B10:O10) -> 0
A11: Total Revenues | B11: =SUM(B6:B10) -> 0 | C11: =SUM(C6:C10) -> 0 | D11: =SUM(D6:D10) -> 0 | E11: =SUM(E6:E10) -> 0 | F11: =SUM(F6:F10) -> 0 | G11: =SUM(G6:G10) -> 0 | H11: =SUM(H6:H10) -> 0 | I11: =SUM(I6:I10) -> 0 | ... P11: =SUM(P6:P10) -> 0
A12: In-Kind Match | B12: ='PG-1-Hmk, PC, Respite'!B29 -> 0 | C12: ='PG-1-Hmk, PC, Respite'!C29 -> 0 | D12: ='PG-1-Hmk, PC, Respite'!D29 -> 0 | E12: ='PG-1-Hmk, PC, Respite'!E29 -> 0 | F12: ='PG-1-Hmk, PC, Respite'!F29 -> 0 | G12: ='PG-1-Hmk, PC, Respite'!G29 -> 0 | H12: ='PG-1-Hmk, PC, Respite'!H29 -> 0 | I12: ='PG-1-Hmk, PC, Respite'!I29 -> 0 | ... M12: ='PG-1-Hmk, PC, Respite'!M29 -> 0 | N12: ='PG-2-Nutrition'!B46 -> 0 | O12: ='PG-2-Nutrition'!C46 -> 0 | P12: =SUM(B12:M12) -> 0
A13: Source of In-Kind Match (Vol. Hrs., Space, etc)
A14: #Clients to be Served
A15: #Clients in Greatest Economic Need
A16: #Clients in Greatest Social Need
A17: Total # Service Units*
A18: Cost Per Unit of Service
A20: *Service units for Meals should equal the previous year's final eligible meal number.
