Workbook

Sheet PG-1-In-Home Services
A1: Region 9 AAA
A2: Request for Proposal Budget
A3: Multi-Year Plan 2027 - 2029
A5: Subcontractor Name:
A10: LINE ITEM: | B10: Homemaking | C10: Personal Care | D10: Respite | E10: TOTALS
A11: Salaries/Wages | E11: =SUM(B11:D11) -> 0
A12: Fringe Benefits | E12: =SUM(B12:D12) -> 0
A13: Staff Travel | E13: =SUM(B13:D13) -> 0
A14: Supplies | E14: =SUM(B14:D14) -> 0
A15: Equipment (>$5000) | E15: =SUM(B15:D15) -> 0
A16: Occupancy | E16: =SUM(B16:D16) -> 0
A17: Communications | E17: =SUM(B17:D17) -> 0
A18: Service Contracts | E18: =SUM(B18:D18) -> 0
A19: Other | E19: =SUM(B19:D19) -> 0
A20: TOTAL | B20: =SUM(B11:B19) -> 0 | C20: =SUM(C11:C19) -> 0 | D20: =SUM(D11:D19) -> 0 | E20: =SUM(E11:E19) -> 0
A21: SOURCE OF FUNDS:
A22: Federal | E22: =SUM(B22:D22) -> 0
A23: State | E23: =SUM(B23:D23) -> 0
A24: Program Income | E24: =SUM(B24:D24) -> 0
A25: Cash Match | E25: =SUM(B25:D25) -> 0
A26: TOTAL | B26: =SUM(B22:B25) -> 0 | C26: =SUM(C22:C25) -> 0 | D26: =SUM(D22:D25) -> 0 | E26: =SUM(E22:E25) -> 0
A29: In-Kind Match | E29: =SUM(B29:D29) -> 0
A31: *Source of funds and match amounts should be taken from the estimated allocation sheets.

Sheet PG-2-Nutrition
A1: Region 9 AAA
A2: Request for Proposal Budget
A3: Multi-Year Plan 2027 - 2029
A4: Subcontractor Name:
A7: LINE ITEMS: | B7: Congregate Meals | C7: Home-Delivered Meals | D7: Carry-Out Meals | E7: TOTALS
A8: Salaries/Wages (Personnel):
A9: Administration | E9: =SUM(B9:D9) -> 0
A10: Meal Preparation | E10: =SUM(B10:D10) -> 0
A11: Meal Delivery | E11: =SUM(B11:D11) -> 0
A12: Fringe:
A13: Administration | E13: =SUM(B13:D13) -> 0
A14: Meal Preparation | E14: =SUM(B14:D14) -> 0
A15: Meal Delivery | E15: =SUM(B15:D15) -> 0
A16: Travel:
A17: Administration | E17: =SUM(B17:D17) -> 0
A18: Meal Delivery | E18: =SUM(B18:D18) -> 0
A19: Raw Food | E19: =SUM(B19:D19) -> 0
A20: Equipment - Maintenance/Repair | E20: =SUM(B20:D20) -> 0
A21: Supplies | E21: =SUM(B21:D21) -> 0
A22: Utilities/Refuse | E22: =SUM(B22:D22) -> 0
A23: Other:
A24: Communications | E24: =SUM(B24:D24) -> 0
A25: Cleaning | E25: =SUM(B25:D25) -> 0
A26: Insurance | E26: =SUM(B26:D26) -> 0
A27: *Delivery vehicle expense | E27: =SUM(B27:D27) -> 0
A28: HPS Dues | E28: =SUM(B28:D28) -> 0
A29: Snow Removal | E29: =SUM(B29:D29) -> 0
A30: Space Cost/Rent | E30: =SUM(B30:D30) -> 0
A31: Audit | E31: =SUM(B31:D31) -> 0
A32: Misc: Advertising & Training | E32: =SUM(B32:D32) -> 0
A33: In-Kind Expense:
A34: Volunteer time | E34: =SUM(B34:D34) -> 0
A35: Other (explain): | E35: =SUM(B35:D35) -> 0
A36: TOTAL | B36: =SUM(B8:B35) -> 0 | C36: =SUM(C8:C35) -> 0 | D36: =SUM(D8:D35) -> 0 | E36: =SUM(E9:E35) -> 0
A37: SOURCE OF FUNDS:
A38: Federal | E38: 0
A39: State | E39: 0
A40: N.S.I.P. | E40: 0
A41: Program Income-Eligible | E41: 0
A42: Program Income-Non-Eligible | E42: 0
...

Sheet PG-3
A1: SALARIES
A2: AND WAGES
F3: Carry-out | G3: Congregate | H3: Home-Delivered
A4: (List by Job Title) | B4: Homemaking | C4: Personal Care | D4: Respite | E4: Transportation | F4: Meals | G4: Meals | H4: Meals | I4: TOTALS
I5: =SUM(B5:H5) -> 0
I6: =SUM(B6:H6) -> 0
I7: =SUM(B7:H7) -> 0
I8: =SUM(B8:H8) -> 0
I9: =SUM(B9:H9) -> 0
I10: =SUM(B10:H10) -> 0
I11: =SUM(B11:H11) -> 0
I12: =SUM(B12:H12) -> 0
I13: =SUM(B13:H13) -> 0
I14: =SUM(B14:H14) -> 0
I15: =SUM(B15:H15) -> 0
I16: =SUM(B16:H16) -> 0
A17: Total Salaries & Wages | B17: =SUM(B5:B16) -> 0 | C17: =SUM(C5:C16) -> 0 | D17: =SUM(D5:D16) -> 0 | E17: =SUM(E5:E16) -> 0 | F17: =SUM(F5:F16) -> 0 | G17: =SUM(G5:G16) -> 0 | H17: =SUM(H5:H16) -> 0 | I17: =SUM(B17:H17) -> 0

Sheet PG-4
A3: SALARIES | F3: Carry-out | G3: Congregate | H3: Home-Delivered
A4: AND WAGES | B4: Homemaking | C4: Personal Care | D4: Respite | E4: Transportation | F4: Meals | G4: Meals | H4: Meals | I4: TOTALS
I5: =SUM(B5:H5) -> 0
I6: =SUM(B6:H6) -> 0
I7: =SUM(B7:H7) -> 0
I8: =SUM(B8:H8) -> 0
A9: TOTAL SALARIES AND WAGES | B9: =SUM(B5:B8) -> 0 | C9: =SUM(C5:C8) -> 0 | D9: =SUM(D5:D8) -> 0 | E9: =SUM(E5:E8) -> 0 | F9: =SUM(F5:F8) -> 0 | G9: =SUM(G5:G8) -> 0 | H9: =SUM(H5:H8) -> 0 | I9: =SUM(B9:H9) -> 0
A11: FRINGE BENEFITS | B11: ='PG-1-In-Home Services'!B12 | C11: ='PG-1-In-Home Services'!C12 | E11: ='PG-1-In-Home Services'!I12 -> 0 | F11: ='PG-1-In-Home Services'!J12 -> 0 | G11: 0 | H11: 0 | I11: =SUM(B11:H11) -> 0
A13: TRAVEL | B13: ='PG-1-In-Home Services'!B13 | C13: ='PG-1-In-Home Services'!C13 | E13: ='PG-1-In-Home Services'!I13 -> 0 | F13: ='PG-1-In-Home Services'!J13 -> 0 | G13: 0 | H13: 0 | I13: =SUM(B13:H13) -> 0
A15: SUPPLIES | B15: ='PG-1-In-Home Services'!B14 | C15: ='PG-1-In-Home Services'!C14 | E15: ='PG-1-In-Home Services'!I14 -> 0 | F15: ='PG-1-In-Home Services'!J14 -> 0 | G15: ='PG-2-Nutrition'!B21 | H15: ='PG-2-Nutrition'!C21 | I15: =SUM(B15:H15) -> 0
A17: EQUIP | G17: ='PG-2-Nutrition'!B20 | H17: ='PG-2-Nutrition'!C20 | I17: =SUM(B17:H17) -> 0
A19: RAW FOOD | G19: ='PG-2-Nutrition'!B19 | H19: ='PG-2-Nutrition'!C19 -> 0 | I19: =SUM(B19:H19) -> 0
B20: ELIGIBLE MEALS: | C20: C1:
A21: (Previous FY Final #'s) | C21: C2:
C22: COM:

Sheet PG5
F4: Carry-out | G4: Congregate | H4: Home-Delivered
A5: OCCUPANCY | B5: Homemaking | C5: Peronal Care | D5: Respite | E5: Transportation | F5: Meals | G5: Meals | H5: Meals | I5: TOTALS
A6: Office Space | I6: =SUM(B6:H6) -> 0
I7: =SUM(B7:H7) -> 0
I8: =SUM(B8:H8) -> 0
I9: =SUM(B9:H9) -> 0
A10: Utilities | G10: ='PG-2-Nutrition'!B22 | H10: ='PG-2-Nutrition'!C22 | I10: =SUM(B10:H10) -> 0
I11: =SUM(B11:H11) -> 0
I12: =SUM(B12:H12) -> 0
I13: =SUM(B13:H13) -> 0
A14: TOTAL | B14: =SUM(B6:B13) -> 0 | C14: =SUM(C6:C13) -> 0 | D14: =SUM(D6:D13) -> 0 | E14: =SUM(E6:E13) -> 0 | F14: =SUM(F6:F13) -> 0 | G14: =SUM(G6:G13) -> 0 | H14: =SUM(H6:H13) -> 0 | I14: =SUM(I6:I13) -> 0
A16: COMMUNICATION
A17: Postage | I17: =SUM(B17:H17) -> 0
A18: Telephone | B18: ='PG-1-In-Home Services'!B17 | C18: ='PG-1-In-Home Services'!C17 | E18: ='PG-1-In-Home Services'!I17 -> 0 | F18: ='PG-1-In-Home Services'!J17 -> 0 | G18: ='PG-2-Nutrition'!B24 | H18: ='PG-2-Nutrition'!C24 | I18: =SUM(B18:H18) -> 0
A19: Copying | I19: =SUM(B19:H19) -> 0
A20: TOTAL | B20: =SUM(B17:B19) -> 0 | C20: =SUM(C17:C19) -> 0 | D20: =SUM(D17:D19) -> 0 | E20: =SUM(E17:E19) -> 0 | F20: =SUM(F17:F19) -> 0 | G20: =SUM(G17:G19) -> 0 | H20: =SUM(H17:H19) -> 0 | I20: =SUM(I17:I19) -> 0
A22: SERVICE CONTRACTS
I23: =SUM(B23:H23) -> 0
I24: =SUM(B24:H24) -> 0
I25: =SUM(B25:H25) -> 0
A26: TOTAL | B26: =SUM(B23:B25) -> 0 | C26: =SUM(C23:C25) -> 0 | D26: =SUM(D23:D25) -> 0 | E26: =SUM(E23:E25) -> 0 | F26: =SUM(F23:F25) -> 0 | G26: =SUM(G23:G25) -> 0 | H26: =SUM(H23:H25) -> 0 | I26: =SUM(I23:I25) -> 0

Sheet PG6
A4: OTHER | F4: Carry-out | G4: Congregate | H4: Home-Delivered
A5: COSTS | B5: Homemaking | C5: Peronal Care | D5: Respite | E5: Transportation | F5: Meals | G5: Meals | H5: Meals | I5: TOTALS
I6: =SUM(B6:H6) -> 0
G7: ='PG-2-Nutrition'!B28 | H7: ='PG-2-Nutrition'!C28 | I7: =SUM(B7:H7) -> 0
G8: ='PG-2-Nutrition'!B30 | H8: ='PG-2-Nutrition'!C30 | I8: =SUM(B8:H8) -> 0
G9: ='PG-2-Nutrition'!B32 | H9: ='PG-2-Nutrition'!C32 | I9: =SUM(B9:H9) -> 0
I10: =SUM(B10:H10) -> 0
I11: =SUM(B11:H11) -> 0
I12: =SUM(B12:H12) -> 0
I13: =SUM(B13:H13) -> 0
I14: =SUM(B14:H14) -> 0
I15: =SUM(B15:H15) -> 0
I16: =SUM(B16:H16) -> 0
I17: =SUM(B17:H17) -> 0
A18: TOTAL | B18: =SUM(B6:B17) -> 0 | C18: =SUM(C6:C17) -> 0 | D18: =SUM(D6:D17) -> 0 | E18: =SUM(E6:E17) -> 0 | F18: =SUM(F6:F17) -> 0 | G18: =SUM(G6:G17) -> 0 | H18: =SUM(H6:H17) -> 0 | I18: =SUM(B18:H18) -> 0
A21: Describe what the other costs are above.

Sheet PG7
A4: OTHER | F4: Carry-out | G4: Congregate | H4: Home-Delivered
A5: COSTS | B5: Homemaking | C5: Peronal Care | D5: Respite | E5: Transportation | F5: Meals | G5: Meals | H5: Meals | I5: TOTALS
A6: Federal Funds | B6: ='PG-1-In-Home Services'!B22 | C6: ='PG-1-In-Home Services'!C22 | D6: ='PG-1-In-Home Services'!D22 | E6: ='PG-1-In-Home Services'!E22 -> 0 | F6: ='PG-1-In-Home Services'!F22 -> 0 | G6: ='PG-1-In-Home Services'!G22 -> 0 | H6: ='PG-1-In-Home Services'!H22 -> 0 | I6: =SUM(B6:H6) -> 0
A7: State Funds | B7: ='PG-1-In-Home Services'!B23 | C7: ='PG-1-In-Home Services'!C23 | D7: ='PG-1-In-Home Services'!D23 | E7: ='PG-1-In-Home Services'!E23 -> 0 | F7: ='PG-1-In-Home Services'!F23 -> 0 | G7: ='PG-1-In-Home Services'!G23 -> 0 | H7: ='PG-1-In-Home Services'!H23 -> 0 | I7: =SUM(B7:H7) -> 0
A8: N.S.I.P. | I8: =SUM(B8:H8) -> 0
A9: Program Income | B9: ='PG-1-In-Home Services'!B24 | C9: ='PG-1-In-Home Services'!C24 | D9: ='PG-1-In-Home Services'!D24 | E9: ='PG-1-In-Home Services'!E24 -> 0 | F9: ='PG-1-In-Home Services'!F24 -> 0 | G9: ='PG-1-In-Home Services'!G24 -> 0 | H9: ='PG-1-In-Home Services'!H24 -> 0 | I9: =SUM(B9:H9) -> 0
A10: Cash Match | B10: ='PG-1-In-Home Services'!B25 | C10: ='PG-1-In-Home Services'!C25 | D10: ='PG-1-In-Home Services'!D25 | E10: ='PG-1-In-Home Services'!E25 -> 0 | F10: ='PG-1-In-Home Services'!F25 -> 0 | G10: ='PG-1-In-Home Services'!G25 -> 0 | H10: ='PG-1-In-Home Services'!H25 -> 0 | I10: =SUM(B10:H10) -> 0
A11: Total Revenues | B11: =SUM(B6:B10) -> 0 | C11: =SUM(C6:C10) -> 0 | D11: =SUM(D6:D10) -> 0 | E11: =SUM(E6:E10) -> 0 | F11: =SUM(F6:F10) -> 0 | G11: =SUM(G6:G10) -> 0 | H11: =SUM(H6:H10) -> 0 | I11: =SUM(B11:H11) -> 0
A12: In-Kind Match | B12: ='PG-1-In-Home Services'!B29 | C12: ='PG-1-In-Home Services'!C29 | D12: ='PG-1-In-Home Services'!D29 | E12: ='PG-1-In-Home Services'!E29 -> 0 | F12: ='PG-1-In-Home Services'!F29 -> 0 | G12: ='PG-1-In-Home Services'!G29 -> 0 | H12: ='PG-1-In-Home Services'!H29 -> 0 | I12: =SUM(B12:H12) -> 0
A13: Source of In-Kind Match (Vol. Hrs., Space, etc) | I13: =SUM(B13:H13) -> 0
A14: #Clients to be Served | B14: 0 | C14: 0 | E14: 0 | G14: 0 | I14: =SUM(B14:H14) -> 0
A15: #Clients in Greatest Economic Need | B15: 0 | C15: 0 | E15: 0 | G15: 0 | I15: =SUM(B15:H15) -> 0
A16: #Clients in Greatest Social Need | B16: 0 | C16: 0 | E16: 0 | G16: 0 | I16: =SUM(B16:H16) -> 0
A17: Total # Service Units* | B17: =IFERROR(B11/B18,0) -> 0 | C17: =IFERROR(C11/C18,0) -> 0 | D17: =IFERROR(D11/D18,0) -> 0 | E17: =IFERROR(E11/E18,0) -> 0 | F17: =IFERROR(F11/F18,0) -> 0 | G17: =IFERROR(G11/G18,0) -> 0 | H17: =IFERROR(H11/H18,0) -> 0 | I17: =SUM(B17:H17) -> 0
A18: Cost Per Unit of Service
A20: *Service units for Meals should equal the previous year's final eligible meal number.
